BEGIN:VCALENDAR
VERSION:2.0
PRODID:-//InvisionCommunity Events 5.0.12//EN
METHOD:PUBLISH
CALSCALE:GREGORIAN
REFRESH-INTERVAL:PT15M
X-PUBLISHED-TTL:PT15M
X-WR-CALNAME:Украина
NAME:Украина
BEGIN:VTIMEZONE
TZID:Europe/London
TZURL:https://tzurl.org/zoneinfo/Europe/London
X-LIC-LOCATION:Europe/London
BEGIN:DAYLIGHT
TZOFFSETFROM:+0000
TZOFFSETTO:+0100
TZNAME:BST
DTSTART:20200329T020000Z
RRULE:FREQ=YEARLY;BYMONTH=3;BYDAY=-1SU
END:DAYLIGHT
BEGIN:STANDARD
TZOFFSETFROM:+0100
TZOFFSETTO:+0000
TZNAME:GMT
DTSTART:20201025T020000Z
RRULE:FREQ=YEARLY;BYMONTH=10;BYDAY=-1SU
END:STANDARD
END:VTIMEZONE
BEGIN:VTIMEZONE
TZID:Europe/London
TZURL:https://tzurl.org/zoneinfo/Europe/London
X-LIC-LOCATION:Europe/London
BEGIN:DAYLIGHT
TZOFFSETFROM:+0000
TZOFFSETTO:+0100
TZNAME:BST
DTSTART:20190331T020000Z
RRULE:FREQ=YEARLY;BYMONTH=3;BYDAY=-1SU
END:DAYLIGHT
BEGIN:STANDARD
TZOFFSETFROM:+0100
TZOFFSETTO:+0000
TZNAME:GMT
DTSTART:20191027T020000Z
RRULE:FREQ=YEARLY;BYMONTH=10;BYDAY=-1SU
END:STANDARD
END:VTIMEZONE
BEGIN:VTIMEZONE
TZID:Europe/London
TZURL:https://tzurl.org/zoneinfo/Europe/London
X-LIC-LOCATION:Europe/London
BEGIN:DAYLIGHT
TZOFFSETFROM:+0000
TZOFFSETTO:+0100
TZNAME:BST
DTSTART:20170326T020000Z
RRULE:FREQ=YEARLY;BYMONTH=3;BYDAY=-1SU
END:DAYLIGHT
BEGIN:STANDARD
TZOFFSETFROM:+0100
TZOFFSETTO:+0000
TZNAME:GMT
DTSTART:20171029T020000Z
RRULE:FREQ=YEARLY;BYMONTH=10;BYDAY=-1SU
END:STANDARD
END:VTIMEZONE
BEGIN:VEVENT
SUMMARY:Черная пятница в ValMari
DTSTAMP:20201127T100737Z
SEQUENCE:0
UID:2376-8-3b0549badb42769e66f658993afa8ade@pf-k.ru
ORGANIZER;CN="elenaprokhorenko":admin@pf-k.ru
DESCRIPTION:\n	Учебный центр д
	ля косметологов ValMari
	 на черную пятницу приду
	мал такооооое!\n\n	Дарит 100 0
	00 грн на обучение!!
	!\n\n	Я как раз дум
	ала уйти в направ
	ление косметологии
	! Класс\, мечты сбыв
	аются!\n\n	Делюсь ссылкой\, может
	 кому-то будет полезно!\nhttps://www.instagram.com/valma
	ri_ukraine/\n
DTSTART:20201126T220000Z
END:VEVENT
BEGIN:VEVENT
SUMMARY:Международный Wo
	rkshop - семинар всемирно известного бренда
	 Matrigen
DTSTAMP:20190328T164739Z
SEQUENCE:0
UID:1722-8-3b0549badb42769e66f658993afa8ade@pf-k.ru
ORGANIZER;CN="lescils":admin@pf-k.ru
DESCRIPTION:\n\n	Дорогие Космет
	ологи!\n\n\n\n	Приг
	лашаем Вас 
	на междунаро
	дный семинар\, с 
	выдачей  серти
	фиката Европейск
	ого образца! \n\
	n	6 часов интенс
	ива в Варшав
	е! Мощная п
	рограмма  евр
	опейского уровня\, от оф
	ициального представителя бренда Мatr
	igen Korea ( компания C&amp\;T Cosmo) в 
	Украине и Европе
	. \n\n	Плюс демонстрация
	 новой\, инъекционной мето
	дики с помощью Hyaluron Pen для к
	осметологов.\n\n\n\n	Межд
	ународный Workshop- с
	еминар\, специально для
	 украинских косметологов.\n\n	
	Workshop состоит из 2 часте
	й : \n\n	1. Семинар по прод
	укции всемирно извест
	ного бренда Мatrigen  \n\n	2. Демо
	нстрация методики работы с Hya
	luron Pen ( безигольчатые инъе
	кции).\n\n\n\n	На эт
	ом семинаре 
	вы сможете:
	 ознакомить
	ся с линейко
	й продукции
	 компании\, полу
	чить протоколы
	 процедур\, рек
	омендуемые брендом
	\, a так же обсудить
	 наработки  с к
	оллегами.\n\n	Вторая 
	часть семинара- включ
	ает демонстрацию рабо
	ты Hyaluron Pen и прот
	околы применени
	я его на различ
	ных зонах коррекции
	  с препаратами.\n\n	В
	 стоимость включен
	о: \n\n	-семинар \,  -инфо
	рмационный материал
	   -кофе брейк\n\n\n\n	Да
	та проведения семи
	нара «10» апреля  2019 
	года В городе Варшава( Поль
	ша.)  \n\n	Подарки от брен
	да Matrigen\, обмен 
	полезной информац
	ией\, приятную атм
	осферу Гарантируем. \n\n
	\n\n	Стоимость участия 
	в семинаре -200$ ( опла
	та на карту Приват ба
	нка в гривне)\n\n	Отде
	льно оплачивается:
	  \n\n	1.Проезд: цена зави
	сит от города отправления: на а
	втобусе ( 45$- 60$) или самоле
	те ( 98$-160$) цена на билеты
	 ориентировочная\,
	 в обе стороны.  \n\n	2.т
	рансфер из аэропорта 
	или вокзала.\n\n\n\n	
	Обращаем ва
	ше внимание 
	на то\, что 
	данный с
	еминар являет
	ся малокомпле
	ктным  и коли
	чество мест 
	строго ограниче
	но.\n\n	Обязательн
	ое наличие биом
	етрического па
	спорта. \n\n	По око
	нчанию - выдача
	 дипломов Евр
	опейского образ
	ца. \n\n	Скидка на прод
	укцию предоставлен
	ную на семинаре - 1
	0%. \n\n	Более д
	етальную и
	нформацию о
	 предстоящем се
	минаре вы можете узнать 
	у нашего куратора по телефону: +3809735
	26757 Ася ( Viber\, WhatsApp) куратор в Польше\,\n+38
	0951874768 (Viber) Дарья - куратор в Украине.\n\n\n
DTSTART;VALUE=DATE:20190410
END:VEVENT
BEGIN:VEVENT
SUMMARY:Пилинги и биоревитализация.
DTSTAMP:20171116T124736Z
SEQUENCE:0
UID:781-8-3b0549badb42769e66f658993afa8ade@pf-k.ru
ORGANIZER;CN="Leistern":admin@pf-k.ru
DESCRIPTION:\n
DTSTART:20171122T210000Z
END:VEVENT
END:VCALENDAR
